BEGIN:VCALENDAR
VERSION:2.0
PRODID:-//hacksw/handcal//NONSGML v1.0//EN
BEGIN:VEVENT
DTSTAMP:20261123T000000Z
DTSTART:20261123T000000Z
DTEND:20261123T020000Z
SUMMARY:An Evening with Victoria Clark: Improbable Ingenue
DESCRIPTION:An Evening with Victoria Clark: Improbable Ingenue - Stories and Songs from a Not-So-Brief Career in the Theater Music Director Ted SperlingVictoria Clark is a two-time Tony Award–winning actress, director, and educator. She made her Broadway debut as an understudy in the original Sunday in the Park with George and has since delivered acclaimed performances in Kimberly Akimbo (Tony, Lucille Lortel, and Outer Critics Circle Awards), The Light in the Piazza (Tony, Drama Desk, Outer Critics Circle), Sister Act, Cinderella, and Gigi, among many others. Her television credits include Pose, The Blacklist, Homeland, and One Royal Holiday.An accomplished educator and director, Clark has released two solo albums on PS Classics, including Fifteen Seconds of Grace and December Songs. This special concert features songs from her celebrated Broadway roles alongside beloved standards. She is joined by music director Ted Sperling, a Tony and Drama Desk Award winner for The Light in the Piazza, with a distinguished career spanning over four decades on Broadway and beyond.VIP tickets available as an add-on at checkout and include a post-show meet & greet / photo opportunity with the artists.
END:VEVENT
END:VCALENDAR